BEGIN:VCALENDAR
VERSION:2.0
PRODID:-//Bazén &amp; Sauna - ECPv6.15.11//NONSGML v1.0//EN
CALSCALE:GREGORIAN
METHOD:PUBLISH
X-ORIGINAL-URL:https://bazen-sauna.cz
X-WR-CALDESC:Akce na Bazén &amp; Sauna
REFRESH-INTERVAL;VALUE=DURATION:PT1H
X-Robots-Tag:noindex
X-PUBLISHED-TTL:PT1H
BEGIN:VTIMEZONE
TZID:Europe/Paris
BEGIN:DAYLIGHT
TZOFFSETFROM:+0100
TZOFFSETTO:+0200
TZNAME:CEST
DTSTART:20150329T010000
END:DAYLIGHT
BEGIN:STANDARD
TZOFFSETFROM:+0200
TZOFFSETTO:+0100
TZNAME:CET
DTSTART:20151025T010000
END:STANDARD
BEGIN:DAYLIGHT
TZOFFSETFROM:+0100
TZOFFSETTO:+0200
TZNAME:CEST
DTSTART:20160327T010000
END:DAYLIGHT
BEGIN:STANDARD
TZOFFSETFROM:+0200
TZOFFSETTO:+0100
TZNAME:CET
DTSTART:20161030T010000
END:STANDARD
BEGIN:DAYLIGHT
TZOFFSETFROM:+0100
TZOFFSETTO:+0200
TZNAME:CEST
DTSTART:20170326T010000
END:DAYLIGHT
BEGIN:STANDARD
TZOFFSETFROM:+0200
TZOFFSETTO:+0100
TZNAME:CET
DTSTART:20171029T010000
END:STANDARD
END:VTIMEZONE
BEGIN:VEVENT
DTSTART;VALUE=DATE:20160927
DTEND;VALUE=DATE:20161001
DTSTAMP:20260424T194423
CREATED:20150125T184910Z
LAST-MODIFIED:20150702T080037Z
UID:261-1474934400-1475279999@bazen-sauna.cz
SUMMARY:interbad 2016
DESCRIPTION:
URL:https://bazen-sauna.cz/udalost/interbad-2016/
LOCATION:Messe Stuttgart\, Messepiazza 1\, Stuttgart\, 70629\, Německo
ATTACH;FMTTYPE=image/png:https://bazen-sauna.cz/wp-content/uploads/2015/01/interbad.png
ORGANIZER;CN="Messe Stuttgart":MAILTO:info@messe-stuttgart.de
END:VEVENT
END:VCALENDAR