BEGIN:VCALENDAR
VERSION:2.0
PRODID:-//Bazén &amp; Sauna - ECPv6.15.11//NONSGML v1.0//EN
CALSCALE:GREGORIAN
METHOD:PUBLISH
X-ORIGINAL-URL:https://bazen-sauna.cz
X-WR-CALDESC:Akce na Bazén &amp; Sauna
REFRESH-INTERVAL;VALUE=DURATION:PT1H
X-Robots-Tag:noindex
X-PUBLISHED-TTL:PT1H
BEGIN:VTIMEZONE
TZID:Europe/Paris
BEGIN:DAYLIGHT
TZOFFSETFROM:+0100
TZOFFSETTO:+0200
TZNAME:CEST
DTSTART:20140330T010000
END:DAYLIGHT
BEGIN:STANDARD
TZOFFSETFROM:+0200
TZOFFSETTO:+0100
TZNAME:CET
DTSTART:20141026T010000
END:STANDARD
BEGIN:DAYLIGHT
TZOFFSETFROM:+0100
TZOFFSETTO:+0200
TZNAME:CEST
DTSTART:20150329T010000
END:DAYLIGHT
BEGIN:STANDARD
TZOFFSETFROM:+0200
TZOFFSETTO:+0100
TZNAME:CET
DTSTART:20151025T010000
END:STANDARD
BEGIN:DAYLIGHT
TZOFFSETFROM:+0100
TZOFFSETTO:+0200
TZNAME:CEST
DTSTART:20160327T010000
END:DAYLIGHT
BEGIN:STANDARD
TZOFFSETFROM:+0200
TZOFFSETTO:+0100
TZNAME:CET
DTSTART:20161030T010000
END:STANDARD
BEGIN:DAYLIGHT
TZOFFSETFROM:+0100
TZOFFSETTO:+0200
TZNAME:CEST
DTSTART:20170326T010000
END:DAYLIGHT
BEGIN:STANDARD
TZOFFSETFROM:+0200
TZOFFSETTO:+0100
TZNAME:CET
DTSTART:20171029T010000
END:STANDARD
BEGIN:DAYLIGHT
TZOFFSETFROM:+0100
TZOFFSETTO:+0200
TZNAME:CEST
DTSTART:20180325T010000
END:DAYLIGHT
BEGIN:STANDARD
TZOFFSETFROM:+0200
TZOFFSETTO:+0100
TZNAME:CET
DTSTART:20181028T010000
END:STANDARD
BEGIN:DAYLIGHT
TZOFFSETFROM:+0100
TZOFFSETTO:+0200
TZNAME:CEST
DTSTART:20190331T010000
END:DAYLIGHT
BEGIN:STANDARD
TZOFFSETFROM:+0200
TZOFFSETTO:+0100
TZNAME:CET
DTSTART:20191027T010000
END:STANDARD
END:VTIMEZONE
BEGIN:VEVENT
DTSTART;TZID=Europe/Paris:20181023T080000
DTEND;TZID=Europe/Paris:20181026T170000
DTSTAMP:20260424T160035
CREATED:20170614T070918Z
LAST-MODIFIED:20170614T070918Z
UID:537-1540281600-1540573200@bazen-sauna.cz
SUMMARY:Interbad 2018
DESCRIPTION:
URL:https://bazen-sauna.cz/udalost/interbad-2018/
LOCATION:Messe Stuttgart\, Messepiazza 1\, Stuttgart\, 70629\, Německo
ATTACH;FMTTYPE=image/png:https://bazen-sauna.cz/wp-content/uploads/2015/01/interbad.png
ORGANIZER;CN="Messe Stuttgart":MAILTO:info@messe-stuttgart.de
END:VEVENT
BEGIN:VEVENT
DTSTART;TZID=Europe/Paris:20180221T080000
DTEND;TZID=Europe/Paris:20180223T170000
DTSTAMP:20260424T160035
CREATED:20170614T070240Z
LAST-MODIFIED:20170614T070247Z
UID:530-1519200000-1519405200@bazen-sauna.cz
SUMMARY:Forum Piscine 2018
DESCRIPTION:10. ročník výstavy
URL:https://bazen-sauna.cz/udalost/forum-piscine-2018/
LOCATION:BOLOGNA EXHIBITION CENTRE\, Itálie
ATTACH;FMTTYPE=image/png:https://bazen-sauna.cz/wp-content/uploads/2017/06/logo_forumpiscine.png
END:VEVENT
BEGIN:VEVENT
DTSTART;TZID=Europe/Paris:20180130T093000
DTEND;TZID=Europe/Paris:20180201T170000
DTSTAMP:20260424T160035
CREATED:20170614T064721Z
LAST-MODIFIED:20170614T065139Z
UID:524-1517304600-1517504400@bazen-sauna.cz
SUMMARY:Spatex 2018
DESCRIPTION:Parkování \n2000 parkovacích míst zdarma k dispozici po celou dobu. PSČ pro satelitní navigace CV6 6GE
URL:https://bazen-sauna.cz/udalost/spatex-2018/
LOCATION:Ricoh Arena\, Phoenix Way\, Coventry\, CV6 6GE\, Spojené království
ATTACH;FMTTYPE=image/png:https://bazen-sauna.cz/wp-content/uploads/2017/06/Spatex2018_LogoOnly_Original.jpg-e1497423079769.png
END:VEVENT
BEGIN:VEVENT
DTSTART;VALUE=DATE:20160927
DTEND;VALUE=DATE:20161001
DTSTAMP:20260424T160035
CREATED:20150125T184910Z
LAST-MODIFIED:20150702T080037Z
UID:261-1474934400-1475279999@bazen-sauna.cz
SUMMARY:interbad 2016
DESCRIPTION:
URL:https://bazen-sauna.cz/udalost/interbad-2016/
LOCATION:Messe Stuttgart\, Messepiazza 1\, Stuttgart\, 70629\, Německo
ATTACH;FMTTYPE=image/png:https://bazen-sauna.cz/wp-content/uploads/2015/01/interbad.png
ORGANIZER;CN="Messe Stuttgart":MAILTO:info@messe-stuttgart.de
END:VEVENT
BEGIN:VEVENT
DTSTART;VALUE=DATE:20160517
DTEND;VALUE=DATE:20160521
DTSTAMP:20260424T160035
CREATED:20150705T091811Z
LAST-MODIFIED:20150705T091811Z
UID:368-1463443200-1463788799@bazen-sauna.cz
SUMMARY:Aqua Therm 2015 Kyiv
DESCRIPTION:
URL:https://bazen-sauna.cz/udalost/aqua-therm-2015-kyiv/
LOCATION:International Exhibition Centre\, Brovarsky ave.\, 15\, Kiev\, Ukrajina
ATTACH;FMTTYPE=image/png:https://bazen-sauna.cz/wp-content/uploads/2015/07/aquathermKiev.png
END:VEVENT
BEGIN:VEVENT
DTSTART;VALUE=DATE:20160218
DTEND;VALUE=DATE:20160221
DTSTAMP:20260424T160035
CREATED:20150704T001417Z
LAST-MODIFIED:20150704T001448Z
UID:364-1455753600-1456012799@bazen-sauna.cz
SUMMARY:Forum Piscine 2016
DESCRIPTION:Forum Piscine 2015 \n 
URL:https://bazen-sauna.cz/udalost/forum-piscine-2016/
LOCATION:Bologna Fiere S.P.A.\, Piazza della Costituzione\, 6\, Bologna\, 40127\, Itálie
ATTACH;FMTTYPE=image/png:https://bazen-sauna.cz/wp-content/uploads/2015/01/forum-piscine-logo-social1.png
END:VEVENT
BEGIN:VEVENT
DTSTART;VALUE=DATE:20160131
DTEND;VALUE=DATE:20160203
DTSTAMP:20260424T160035
CREATED:20150704T000501Z
LAST-MODIFIED:20150704T000811Z
UID:360-1454198400-1454457599@bazen-sauna.cz
SUMMARY:Spatex 2016
DESCRIPTION:
URL:https://bazen-sauna.cz/udalost/spatex-2016/
LOCATION:Ricoh Arena\, Phoenix Way\, Coventry\, CV6 6GE\, Spojené království
ATTACH;FMTTYPE=image/jpeg:https://bazen-sauna.cz/wp-content/uploads/2015/07/Spatex-20161.jpg
ORGANIZER;CN="Spatex":MAILTO:penny@spatex.co.uk
END:VEVENT
BEGIN:VEVENT
DTSTART;VALUE=DATE:20150219
DTEND;VALUE=DATE:20150221
DTSTAMP:20260424T160035
CREATED:20150125T192131Z
LAST-MODIFIED:20150702T080055Z
UID:266-1424304000-1424476799@bazen-sauna.cz
SUMMARY:FORUM PISCINE 2015
DESCRIPTION:Od 19 do 21.února boloňského výstaviště budedějištěm jedné mezinárodní výstavě na bazény a lázně v Itálii : ForumPiscine .\nTo je jeden z hlavních mezinárodních obchodních výstav a to díky stále rostoucí počet vystavovatelů a kvalifikovaných návštěvníků : poslední ročník ve srovnání s předchozím zaznamenal + 20% návštěvníků.\nBrzy 30. září sraz se přihlásili + 58\,6% aplikací pro Expo\n\nItalský trh jetřetí v Evropě 8000 otevřené struktury \, 18000 Nové bazény každý rok a téměř 6 milionů lidí cvičí vodní gymnastika \, zejména plavání jenejpopulárnější sport v Itálii.
URL:https://bazen-sauna.cz/udalost/forum-piscine-2015/
LOCATION:Bologna Fiere S.P.A.\, Piazza della Costituzione\, 6\, Bologna\, 40127\, Itálie
ATTACH;FMTTYPE=image/png:https://bazen-sauna.cz/wp-content/uploads/2015/01/forum-piscine-logo-social1.png
ORGANIZER;CN="Forum Club":MAILTO:info@aboslutgroup.it
END:VEVENT
BEGIN:VEVENT
DTSTART;VALUE=DATE:20150201
DTEND;VALUE=DATE:20150204
DTSTAMP:20260424T160035
CREATED:20150125T193124Z
LAST-MODIFIED:20150702T080017Z
UID:273-1422748800-1423007999@bazen-sauna.cz
SUMMARY:Spatex 2015
DESCRIPTION:
URL:https://bazen-sauna.cz/udalost/spatex-2015/
LOCATION:Ricoh Arena\, Phoenix Way\, Coventry\, CV6 6GE\, Spojené království
ATTACH;FMTTYPE=image/png:https://bazen-sauna.cz/wp-content/uploads/2015/01/spatex.png
ORGANIZER;CN="Spatex":MAILTO:penny@spatex.co.uk
END:VEVENT
END:VCALENDAR